BEGIN:VCALENDAR
VERSION:2.0
PRODID:icalendar-ruby
CALSCALE:GREGORIAN
METHOD:PUBLISH
BEGIN:VEVENT
DTSTAMP:20260420T021410Z
UID:59-157477@impactcochrane.com
DTSTART:20260503T233000Z
DTEND:20260504T013000Z
CLASS:PUBLIC
CREATED:20260419T150110
DESCRIPTION:Join us for a heartwarming evening of food\, laughter\, and com
 munity! Our Family Feast Service is the perfect chance to slow down\, enjo
 y a delicious meal\, and make memories with our church family.\nThis dinne
 r is a potluck\, and we’d love for you to bring your favourite dish to 
 share!To help us prepare and make sure we have a great variety of food\, p
 lease sign up and let us know what you’ll be bringing. Whether it’s y
 our favourite family recipe or a simple store-bought dish — it all helps
  make the night special.\nEveryone is invited — and everyone has a place
  at the table.We can’t wait to enjoy this time with you!
LAST-MODIFIED:20260419T150110
LOCATION:200 Seminary View
SUMMARY:Family Feast Service
URL;VALUE=URI:https://www.impactcochrane.com/events/family-feast-service/20
 26-05-03
ATTACH;FILENAME=Family-Feast--Slides-16x9-1.png;FMTTYPE=image/png:https://d
 q5pwpg1q8ru0.cloudfront.net/2026/04/19/21/01/09/f96df309-9bb4-4448-a343-34
 3687347a5a/Family-Feast--Slides-16x9-1.png
END:VEVENT
END:VCALENDAR
